BEGIN:VCALENDAR
VERSION:2.0
PRODID:icalendar-ruby
CALSCALE:GREGORIAN
METHOD:PUBLISH
BEGIN:VEVENT
DTSTAMP:20260425T034244Z
UID:16-414754@mtvernontoano.org
DTSTART:20261011T131500Z
DTEND:20261011T141500Z
CLASS:PUBLIC
CREATED:20260424T224635
DESCRIPTION:
LAST-MODIFIED:20260424T224635
LOCATION:Fellowship Hall
SUMMARY:Sunday School
URL;VALUE=URI:https://mtvernontoano.org/events/sunday-school/2026-10-11
ATTACH;FILENAME=books-2809968_1920-Image-by-Deborah-Hudson-from-Pixabay.jpg
 ;FMTTYPE=image/jpeg:https://dq5pwpg1q8ru0.cloudfront.net/2025/09/27/17/25/
 10/b9afecfd-4ff9-4028-a7b8-d76e24031e11/books-2809968_1920-Image-by-Debora
 h-Hudson-from-Pixabay.jpg
END:VEVENT
END:VCALENDAR
