BEGIN:VCALENDAR
VERSION:2.0
PRODID:icalendar-ruby
CALSCALE:GREGORIAN
METHOD:PUBLISH
BEGIN:VEVENT
DTSTAMP:20260425T160633Z
UID:21-415321@mtvernontoano.org
DTSTART:20260811T223000Z
DTEND:20260811T233000Z
CLASS:PUBLIC
CREATED:20260425T111109
DESCRIPTION:Weekly evening bridge group
LAST-MODIFIED:20260425T111109
LOCATION:Church Fellowship Hall
SUMMARY:Bridge Group
URL;VALUE=URI:https://mtvernontoano.org/events/bridge-group--20/2026-08-11
ATTACH;FILENAME=Bridge-Group.jpg;FMTTYPE=image/jpeg:https://dq5pwpg1q8ru0.c
 loudfront.net/2026/04/18/00/40/41/3e183626-df83-4aed-9c53-9e124740d862/Bri
 dge-Group.jpg
END:VEVENT
END:VCALENDAR
