BEGIN:VCALENDAR
VERSION:2.0
PRODID:icalendar-ruby
CALSCALE:GREGORIAN
METHOD:PUBLISH
BEGIN:VEVENT
DTSTAMP:20260425T022724Z
UID:21-414492@mtvernontoano.org
DTSTART:20260623T223000Z
DTEND:20260623T233000Z
CLASS:PUBLIC
CREATED:20260424T195648
DESCRIPTION:Weekly evening bridge group
LAST-MODIFIED:20260424T195648
LOCATION:Church Fellowship Hall
SUMMARY:Bridge Group
URL;VALUE=URI:https://mtvernontoano.org/events/bridge-group--20/2026-06-23
ATTACH;FILENAME=Bridge-Group.jpg;FMTTYPE=image/jpeg:https://dq5pwpg1q8ru0.c
 loudfront.net/2026/04/18/00/40/41/3e183626-df83-4aed-9c53-9e124740d862/Bri
 dge-Group.jpg
END:VEVENT
END:VCALENDAR
