BEGIN:VCALENDAR
VERSION:2.0
PRODID:icalendar-ruby
CALSCALE:GREGORIAN
METHOD:PUBLISH
BEGIN:VEVENT
DTSTAMP:20260424T161342Z
UID:21-413664@mtvernontoano.org
DTSTART:20260512T223000Z
DTEND:20260512T233000Z
CLASS:PUBLIC
CREATED:20260424T113529
DESCRIPTION:Weekly evening bridge group
LAST-MODIFIED:20260424T113529
LOCATION:Church Fellowship Hall
SUMMARY:Bridge Group
URL;VALUE=URI:https://mtvernontoano.org/events/bridge-group--20/2026-05-12
ATTACH;FILENAME=Bridge-Group.jpg;FMTTYPE=image/jpeg:https://dq5pwpg1q8ru0.c
 loudfront.net/2026/04/18/00/40/41/3e183626-df83-4aed-9c53-9e124740d862/Bri
 dge-Group.jpg
END:VEVENT
END:VCALENDAR
